BEGIN:VCALENDAR
VERSION:2.0
PRODID:-//Central Virginia Small Business Development Center - ECPv6.5.1.5//NONSGML v1.0//EN
CALSCALE:GREGORIAN
METHOD:PUBLISH
X-WR-CALNAME:Central Virginia Small Business Development Center
X-ORIGINAL-URL:https://dev.cvsbdc.laughingrhino.com
X-WR-CALDESC:Events for Central Virginia Small Business Development Center
REFRESH-INTERVAL;VALUE=DURATION:PT1H
X-Robots-Tag:noindex
X-PUBLISHED-TTL:PT1H
BEGIN:VTIMEZONE
TZID:UTC
BEGIN:STANDARD
TZOFFSETFROM:+0000
TZOFFSETTO:+0000
TZNAME:UTC
DTSTART:20220101T000000
END:STANDARD
END:VTIMEZONE
BEGIN:VEVENT
DTSTART;TZID=UTC:20221212T180000
DTEND;TZID=UTC:20221212T200000
DTSTAMP:20260425T063315
CREATED:20221201T211107Z
LAST-MODIFIED:20221201T211107Z
UID:11383-1670868000-1670875200@dev.cvsbdc.laughingrhino.com
SUMMARY:Impuestos y Gestión Financiera para Negocios de Comida
DESCRIPTION:Información para personas que desean ser vendedores de comida\, futuros chefs que deseen establecer o mejorar sus propios negocios y sus operaciones\, vendedores de negocios de comida desde casa. \nEnfoque especial: Cuales son las obligaciones como dueño de su negocio al nivel local\, estatal y Federal. Cuales son los impuestos a pagar de la licencia de negocio\, impuestos sobre bienes de la propiedad\, impuestos sobre las ventas. \nTodas las capacitaciones se entregarán en Español a través de zoom. (All trainings will be delivered in Spanish via Zoom.) \nPor favor regístrese para el seminario y recibirá su confirmación para acceder a la sesión por medio de Zoom. \nPara más información enviar un texto a Cely Argueta\, Consultora de Negocios al 301-401-7317. \nRegístrese para el Seminario
URL:https://dev.cvsbdc.laughingrhino.com/event/impuestos-y-gestion-financiera-para-negocios-de-comida/
LOCATION:Online
CATEGORIES:Online event,Spanish language event,Starting a Business
END:VEVENT
END:VCALENDAR