BEGIN:VCALENDAR
VERSION:2.0
PRODID:-//Central Virginia Small Business Development Center - ECPv6.5.1.5//NONSGML v1.0//EN
CALSCALE:GREGORIAN
METHOD:PUBLISH
X-WR-CALNAME:Central Virginia Small Business Development Center
X-ORIGINAL-URL:https://dev.cvsbdc.laughingrhino.com
X-WR-CALDESC:Events for Central Virginia Small Business Development Center
REFRESH-INTERVAL;VALUE=DURATION:PT1H
X-Robots-Tag:noindex
X-PUBLISHED-TTL:PT1H
BEGIN:VTIMEZONE
TZID:UTC
BEGIN:STANDARD
TZOFFSETFROM:+0000
TZOFFSETTO:+0000
TZNAME:UTC
DTSTART:20220101T000000
END:STANDARD
END:VTIMEZONE
BEGIN:VEVENT
DTSTART;TZID=UTC:20221214T100000
DTEND;TZID=UTC:20221214T120000
DTSTAMP:20260425T063313
CREATED:20221207T001116Z
LAST-MODIFIED:20221207T001116Z
UID:11412-1671012000-1671019200@dev.cvsbdc.laughingrhino.com
SUMMARY:SEO & Social Selling *Webinar (Live)* - PW
DESCRIPTION:Promotional Video HERE \nOverview of the Live Webinar \nThe following will be covered during this live webinar: \n\nPower of SEO and social media for attracting customers\, including local SEO to precisely target your market.\nWebsite optimization for lead generation. How personas\, message maps\, and content calendars help to make your website and social media footprint more attractive when integrated.\nSocial selling as an amplifier of your existing sales and marketing strategy. Learn to build an omni channel presence and customer journey for faster wins.\nWhat your digital channel strategy needs\, to be effective in terms of content\, technology and investment.\nHow to effectively use paid media and advertising. Cost savings of optimizing your website and SEO to maximize paid media spend and ROI.\n\n\nSpeaker: Hussain Shah\, Subject Matter Expert – Digital Marketing\, Mason SBDC & Timm Johnson – Director\, Mason SBDC and \nCo-sponsor(s) & Partner(s): Prince William County Department of Economic Development & Prince William Chamber of Commerce \nCancellation Policy: Contact the Center regarding cancellation 24 business hours prior to the event. Kindly email – help@masonsbdc.org (preferred) or call 703-261-4105 to notify the team. \nSpecial Instructions: This live webinar will be presented via Zoom. Webinar access details (Zoom invitation) will be provided after registration. \n  \nRegister
URL:https://dev.cvsbdc.laughingrhino.com/event/seo-social-selling-webinar-live-pw/
LOCATION:Online
CATEGORIES:Marketing and Sales,Online event
ATTACH;FMTTYPE=image/png:https://dev.cvsbdc.laughingrhino.com/wp-content/uploads/2022/12/mason-sbdc-logo.png
ORGANIZER;CN="Mason SBDC":MAILTO:help@masonsbdc.org
END:VEVENT
BEGIN:VEVENT
DTSTART;TZID=UTC:20221214T180000
DTEND;TZID=UTC:20221214T193000
DTSTAMP:20260425T063313
CREATED:20221201T211327Z
LAST-MODIFIED:20221201T211327Z
UID:11385-1671040800-1671046200@dev.cvsbdc.laughingrhino.com
SUMMARY:Determinación de los Costos del Proyecto y Estimación
DESCRIPTION:Programa: Emprende VA – Pequeña Empresa de Construcción\nPara el desarrollo de un estimado para su cliente\, es importante que usted conozco como puede desarrollar un sistema que le ayude a determinar costos laborales\, materiales y generales de su compania. \nTodas las capacitaciones se entregarán en Español a través de zoom. (All trainings will be delivered in Spanish via zoom.) \nPor favor regístrese para el seminario y recibirá su confirmación para acceder a la sesión por medio de Zoom. \nPara más información enviar un texto a Cely Argueta\, Consultora de Negocios al 301-401-7317. \nRegístrese para el Seminario
URL:https://dev.cvsbdc.laughingrhino.com/event/determinacion-de-los-costos-del-proyecto-y-estimacion/
LOCATION:Online
CATEGORIES:Online event,Spanish language event,Starting a Business
END:VEVENT
END:VCALENDAR