BEGIN:VCALENDAR
VERSION:2.0
PRODID:-//Central Virginia Small Business Development Center - ECPv6.5.1.5//NONSGML v1.0//EN
CALSCALE:GREGORIAN
METHOD:PUBLISH
X-WR-CALNAME:Central Virginia Small Business Development Center
X-ORIGINAL-URL:https://dev.cvsbdc.laughingrhino.com
X-WR-CALDESC:Events for Central Virginia Small Business Development Center
REFRESH-INTERVAL;VALUE=DURATION:PT1H
X-Robots-Tag:noindex
X-PUBLISHED-TTL:PT1H
BEGIN:VTIMEZONE
TZID:UTC
BEGIN:STANDARD
TZOFFSETFROM:+0000
TZOFFSETTO:+0000
TZNAME:UTC
DTSTART:20230101T000000
END:STANDARD
END:VTIMEZONE
BEGIN:VEVENT
DTSTART;TZID=UTC:20230130T130000
DTEND;TZID=UTC:20230130T140000
DTSTAMP:20260423T052934
CREATED:20230131T004045Z
LAST-MODIFIED:20230131T004129Z
UID:11838-1675083600-1675087200@dev.cvsbdc.laughingrhino.com
SUMMARY:Responding to New Financial Realities in the Craft Beverage Sector
DESCRIPTION:Craft beverage producers know only too well how quickly the industry can move; from pandemic-related closures to regulatory shifts and everything in between\, Virginia’s breweries\, wineries\, cideries\, and distilleries have had to respond to ever-shifting terrain. This same adaptability is needed when it comes to capital attraction. \nIn this webinar\, Virginia SBDC Craft Beverage Assistance Manager Chris Van Orden welcomes back previous speaker Jason Sleeman\, Vice President of Craft Beverage Lending at United Community Bank\, to share his insights on the changing capital landscape for craft beverage producers. \nREGISTER\n  \nYou will receive an email from events@dev.cvsbdc.laughingrhino.com a day or two before the workshop with the link to join\, handouts and the presentation.  Please check your spam if you do not receive this email. \n\nSPEAKER: Jason Sleeman is Vice President of Craft Beverage Lending at United Community Bank. In this role\, he has worked with dozens of craft beverage producers around the country to secure capital and chart a stable financial course. In addition to his expertise with SBA loan products\, Jason closely tracks the developments in the craft beverage industry. While he works with clients throughout the United States\, Jason lives in Georgia with his family. \nBrought to you jointly by: \nCentral Virginia SBDC     \n &          Virginia SBDC      \n\nYour registration is not complete until you register in Zoom. \n\n\nFee: No Cost
URL:https://dev.cvsbdc.laughingrhino.com/event/responding-to-new-financial-realities-in-the-craft-beverage-sector/
LOCATION:Online
CATEGORIES:Online event,Starting a Business
ORGANIZER;CN="Community Investment Collaborative (CIC)":MAILTO:INFO@CICVILLE.ORG
END:VEVENT
END:VCALENDAR