BEGIN:VCALENDAR
VERSION:2.0
PRODID:-//Central Virginia Small Business Development Center - ECPv6.5.1.5//NONSGML v1.0//EN
CALSCALE:GREGORIAN
METHOD:PUBLISH
X-WR-CALNAME:Central Virginia Small Business Development Center
X-ORIGINAL-URL:https://dev.cvsbdc.laughingrhino.com
X-WR-CALDESC:Events for Central Virginia Small Business Development Center
REFRESH-INTERVAL;VALUE=DURATION:PT1H
X-Robots-Tag:noindex
X-PUBLISHED-TTL:PT1H
BEGIN:VTIMEZONE
TZID:UTC
BEGIN:STANDARD
TZOFFSETFROM:+0000
TZOFFSETTO:+0000
TZNAME:UTC
DTSTART:20230101T000000
END:STANDARD
END:VTIMEZONE
BEGIN:VEVENT
DTSTART;TZID=UTC:20230315T100000
DTEND;TZID=UTC:20230315T120000
DTSTAMP:20260425T063310
CREATED:20221220T232148Z
LAST-MODIFIED:20230314T164325Z
UID:11480-1678874400-1678881600@dev.cvsbdc.laughingrhino.com
SUMMARY:Lead Generation with eVA - Pt2
DESCRIPTION:Do you run a small business and want to do business with the Commonwealth of Virginia? \nThis advanced workshop is the 2nd in our series & focuses on lead generation. This hands-on session explores the public transparency tools available on the eVA website\, including the Report & Resource Center and the new “power” search. You’ll learn how to identify buyers who are buying what you sell\, determine prices being paid for goods/services\, identify who’s getting business (is it you or your competition). We’ll also walk through the Virginia Business Opportunities public posting page – featuring collaboration tools like B2B Connect & VIBE – as we discuss how & when eVA builds a lead list for you and why rating your leads is important. \nPresented by Kimberly Brewer\, eVA Marketing & Outreach Manager \nREGISTER
URL:https://dev.cvsbdc.laughingrhino.com/event/lead-generation-with-eva-pt2-2/
LOCATION:Online
CATEGORIES:Contracting,Online event
ATTACH;FMTTYPE=image/png:https://dev.cvsbdc.laughingrhino.com/wp-content/uploads/2022/03/eva.png
ORGANIZER;CN="Central Virginia Small Business Development Center (CVSBDC)":MAILTO:events@dev.cvsbdc.laughingrhino.com
END:VEVENT
END:VCALENDAR