BEGIN:VCALENDAR
VERSION:2.0
PRODID:-//Central Virginia Small Business Development Center - ECPv6.5.1.5//NONSGML v1.0//EN
CALSCALE:GREGORIAN
METHOD:PUBLISH
X-ORIGINAL-URL:https://dev.cvsbdc.laughingrhino.com
X-WR-CALDESC:Events for Central Virginia Small Business Development Center
REFRESH-INTERVAL;VALUE=DURATION:PT1H
X-Robots-Tag:noindex
X-PUBLISHED-TTL:PT1H
BEGIN:VTIMEZONE
TZID:America/New_York
BEGIN:DAYLIGHT
TZOFFSETFROM:-0500
TZOFFSETTO:-0400
TZNAME:EDT
DTSTART:20230312T070000
END:DAYLIGHT
BEGIN:STANDARD
TZOFFSETFROM:-0400
TZOFFSETTO:-0500
TZNAME:EST
DTSTART:20231105T060000
END:STANDARD
END:VTIMEZONE
BEGIN:VEVENT
DTSTART;TZID=America/New_York:20230926T180000
DTEND;TZID=America/New_York:20230926T200000
DTSTAMP:20260424T084135
CREATED:20230727T153226Z
LAST-MODIFIED:20230824T200247Z
UID:13213-1695751200-1695758400@dev.cvsbdc.laughingrhino.com
SUMMARY:BET 3: Marketing\, Sales\, and Your Brand
DESCRIPTION:Topic: Marketing and Sales\n\nBusiness Essentials Training session 3\nCurious about navigating online sales and marketing vs. traditional methods?\n\nDo you want to explore how to best launch a new product or service?\nCould you use help building the value of your brand and how to communicate how your business is better or different?\n\nIn this workshop\, we talk about your target customers\, tools to connect with them and achieve sales\, and how your brand identifies with them and your employees. We also discuss tools and strategies to identify market fit\, marketing and sales development\, as well as planning and execution \nREGISTER\nPresenter: Ariel Bredder \n\nThis event will be offered online via Zoom \nThere is a $10 administrative fee to attend this workshop. If you cancel less than 48 hours before the workshop\, the fee is non-refundable. If you cancel prior to the 48 hour deadline\, you can use this fee as a credit toward attending another workshop.\nScholarships available – email events@dev.cvsbdc.laughingrhino.com \nFee: $ 10.00 \nAdditional upcoming BET sessions \n\nBET 4\, Planning for Success: Oct 3\, 6:00-8:00pm\n\nBET 5\, Money and Recordkeeping: Oct 10\, 6:00-8:00pm
URL:https://dev.cvsbdc.laughingrhino.com/event/bet-3-marketing-sales-and-your-brand/
LOCATION:Online
CATEGORIES:Online event,Starting a Business
ATTACH;FMTTYPE=image/png:https://dev.cvsbdc.laughingrhino.com/wp-content/uploads/2023/06/Untitled-design-8-e1690471117519.png
ORGANIZER;CN="Central Virginia Small Business Development Center (CVSBDC)":MAILTO:events@dev.cvsbdc.laughingrhino.com
END:VEVENT
END:VCALENDAR